BEGIN:VCALENDAR
VERSION:2.0
PRODID:-//hacksw/handcal//NONSGML v1.0//EN
CALSCALE:GREGORIAN
BEGIN:VEVENT
ORGANIZER;CN=TCM Group A/S:MAILTO:no-reply@mail.gcs-web.com
DTEND:
UID:90aae9da-9405-4cdc-9b31-c56a522df3a6
DTSTAMP:1776953864
LOCATION:https://investor-en.tcmgroup.dk/events/event-details/interim-report-q3-2026
DESCRIPTION:Event Details https://investor-en.tcmgroup.dk/events/event-details/interim-report-q3-2026
URL;VALUE=URI:https://investor-en.tcmgroup.dk/events/event-details/interim-report-q3-2026
SUMMARY:TCM Group A/S - Interim report Q3 2026
DTSTART:20261119T050000Z
END:VEVENT
END:VCALENDAR